{"text_format":"1","workbook":"xlsx","n_sheets":3,"sheets":["Вводные данные","Подложка","Выдача"],"not_rendered":{"charts":0,"images":0,"macros":1,"external_links":0,"defined_names":1,"comments":0,"pivot_tables":0},"unopened":[],"bounds":{"document_bytes":16777216,"sheet_cells":100000,"rows_first":2000,"rows_last":500,"rows_between":2000,"halvings":0,"cell_chars":16384,"cell_head_chars":4096},"cells_cut":0,"cells_raw":0,"read":"whole","date_system":"1900"}

{"sheet":"Вводные данные","index":0,"n_rows":27,"n_cols":11,"rows_kept":27,"cut":false,"hidden":false,"merged":[]}
["№","Фильтры","Требуемые значения"]
[1,"Наличие мобильного приложения",0]
[2,"Минимальное число пользователей",1000]
[3,"Минимальное число проектов",2500]
[4,"Интеграция с GitHub ",0]
[5,"Интеграция с почтой",0]
[6,"Наличие облачного решения",0]
[7,"Возможность работы с расписанием",0]
[8,"Возможность работы с ресурами проектов",0]
[9,"Открытый API",0]
[]
["№","Параметрические критерии","Ежемесячные затраты на обслуживание","Техподдержка + обучение","Безопасность","Кросс-платформенность","Работа с задачами/проектами","Работа с расписаниями","Ведение коммуникаций и интеграция","Формирование отчетности для менеджера","Работа с ресурсами проектов"]
[null,"Веса",1,1,1,1,3,2,3,1,2]
[]
[]
[]
[]
[]
[]
[]
[]
[]
[]
[null,"Показатель","Результат"]
[null,"Количество критериев с высоким приоритетом",{"$f":"COUNTIF(C13:K13,3)","v":2}]
[null,"Количество критериев с обычным приоритетом",{"$f":"COUNTIF(C13:K13,2)","v":2}]
[null,"Необходимо переоценить приоритеты?",{"$f":"IF(OR(C25>3,C26>3),\"Да, необходима переоценка\",\"Нет, переоценка не требуется\")","v":"Нет, переоценка не требуется"}]

{"sheet":"Подложка","index":1,"n_rows":51,"n_cols":42,"rows_kept":51,"cut":false,"hidden":false,"merged":[[50,1,50,9],[0,37,0,41],[1,2,1,5],[1,6,1,11],[1,12,1,15],[1,16,1,22],[1,23,1,26],[1,27,1,31],[1,32,1,36],[1,37,1,41],[0,2,0,5],[0,6,0,11],[0,12,0,15],[0,16,0,22],[0,23,0,26],[0,27,0,31],[26,0,27,0],[26,1,26,9],[26,10,26,18],[26,19,27,19],[0,32,0,36]]}
["№",1,2,null,null,null,3,null,null,null,null,null,4,null,null,null,5,null,null,null,null,null,null,6,null,null,null,7,null,null,null,null,8,null,null,null,null,9]
["Категория","Ежемесячные затраты на обслуживание (на одного пользователя)","Техподдержка + обучение",null,null,null,"Безопасность",null,null,null,null,null,"Кросс-платформенность",null,null,null,"Работа с задачами/проектами",null,null,null,null,null,null,"Работа с расписаниями",null,null,null,"Ведение коммуникаций и интеграция",null,null,null,null,"Формирование отчетности для менеджера",null,null,null,null,"Работа с ресурсами проектов"]
["Параметры","Цена user/month month","Наличие техподдержки","Наличие обучения пользованием приложением","Возможность выделения персонального менеджера/выделенную линию поддержки","Наличие открытого сообщества пользователей","Наличие многофакторной аутентификации (2-х и более)","Отсутствие информации в google о нахождении уязвимостей за последние 3 месяца","Наличие серверов в РФ","Облачность","Возможность установки различных доступов сотрудникам","Наличие собственной системы шифрования","Возможность использования в Mac OS","Наличие мобильной версии на iOS","Наличие мобильной версии на Android","Linux","Возможность установки статусов","Возможность установки ответственных и дедлайнов","Возможность комментирования задания","Возможность кастомизации параметров задачи/проекта","Возможность формирования базы знаний","Невозможность установки нескольких ответственных в одной задаче","Возможность установки связи между задачами/проектами","Возможность построения диаграммы ганта","Возможность отображения календаря сотрудника","Возможность отображения совместного прогресса всех проектов","Сверка дедлайнов со статусом задачи/проекта","Возможность вести переписку с сотрудниками внутри приложения","Возможность интеграции с другими приложениями по управлению проектами","Интеграция с почтой","Возможность файлообмена внутри приложения","Открытый API","Возможность формирования отчетности в принципе","Возможность выгрузки отчетов в pdf","Возможность кастомизации дэшбордов","Возможность формирования графиков","Возможность формирования отчета по сотруднику с трекингом его целей","Возможность трекинга трудозатрат/времени работы","Возможность определения загрузки сотрудников","Возможность трекинга бюджета проекта/затрат на проект","Возможность определения степени использования оборудования","Возможность левелинга ресурсов"]
["LiquidPlanner",59,1,1,1,0,0,1,0,1,1,1,0,1,1,0,0,0,0,1,0,0,1,0,1,1,1,1,0,1,1,1,0,0,0,0,1,1,1,0,0,1]
["Teamwork",18,1,1,0,0,1,1,1,1,1,1,1,1,1,0,1,1,0,1,0,1,1,1,1,1,1,1,1,1,1,1,1,0,1,1,1,1,1,1,0,1]
["Zoho Projects",9,1,1,1,1,1,1,0,1,1,1,0,1,1,0,1,1,1,1,0,1,1,1,1,1,1,1,1,1,1,1,1,0,1,1,0,1,1,1,0,1]
["Celoxis",22.5,1,1,1,1,1,1,1,1,1,1,1,1,1,1,0,1,1,1,0,0,1,1,1,1,1,1,1,1,1,1,1,1,1,1,0,1,1,1,0,1]
["GanttPro",8.9,1,1,1,0,1,1,0,1,1,1,0,0,0,0,1,1,1,1,0,0,1,1,1,1,1,0,1,0,1,1,1,1,1,1,1,1,1,1,1,1]
["ProofHub",89,1,1,1,0,1,1,0,1,1,1,0,1,1,0,0,1,1,1,0,1,0,1,1,1,1,1,0,1,1,1,1,1,1,1,1,1,0,0,0,0]
["Redmine",0,0,1,0,1,1,1,1,1,1,1,1,1,1,1,0,1,1,1,1,0,1,1,0,0,1,1,0,1,1,1,0,0,0,0,0,1,0,0,0,0]
["Smartsheet",25,1,1,1,1,0,1,0,1,1,1,0,1,1,0,0,1,1,0,0,0,0,1,1,1,1,1,1,1,1,1,1,1,1,1,1,1,1,1,0,1]
["TeamGantt",24.45,1,1,0,0,1,1,0,1,1,1,0,1,1,0,1,1,1,1,0,0,1,1,1,1,1,1,1,0,1,1,1,1,1,0,0,1,1,1,0,1]
["Wrike",24.8,1,1,1,1,1,1,0,1,1,1,1,1,1,0,0,1,0,1,0,0,1,1,1,1,1,1,1,1,1,1,1,0,1,1,1,1,1,0,0,1]
["MS Project",{"$f":"3437.5/74/12","v":3.8710585585585586},1,1,0,1,1,1,1,1,1,1,0,0,0,0,1,1,1,1,0,0,1,1,1,1,1,0,1,1,1,0,1,0,1,1,1,1,1,1,1,1]
["Trello",10,1,1,1,0,1,1,0,1,1,1,1,1,1,0,0,1,1,1,0,0,1,0,0,1,1,1,1,1,1,1,1,0,1,1,0,0,1,0,0,1]
["Asana",24.99,1,1,1,1,1,1,0,1,1,1,1,1,1,0,1,1,1,1,0,0,1,1,1,1,1,1,1,1,1,1,1,0,1,1,1,0,1,0,0,1]
["Jira",14,1,1,1,1,1,1,1,1,1,1,1,1,1,0,1,1,1,1,0,0,1,0,0,1,1,0,1,1,1,1,1,0,1,1,1,0,1,0,0,1]
["Bitrix24",{"$f":"9590/74","v":129.59459459459458},1,1,0,0,1,1,1,1,1,1,1,1,1,0,1,1,0,1,1,0,1,1,1,1,1,1,1,0,1,1,1,0,1,1,1,1,0,1,1,0]
["Basecamp",99,1,1,0,0,1,1,0,1,1,1,1,1,1,0,1,1,1,1,0,0,1,0,1,1,1,1,1,1,1,1,0,0,0,1,1,0,0,0,0,0]
["Hive",12,1,1,0,0,1,1,0,1,1,1,1,1,1,0,1,1,1,1,0,0,1,1,0,1,1,1,1,1,1,0,1,0,1,1,1,1,1,0,0,1]
["Backlog",175,1,1,1,1,1,1,1,1,1,1,0,1,1,0,1,1,1,1,1,0,1,1,1,1,1,1,1,1,1,1,0,0,1,0,1,0,1,0,0,1]
["ClickUp",9,1,1,1,1,1,1,0,1,1,1,1,1,1,1,1,1,1,1,1,0,1,1,1,1,1,1,1,1,1,1,1,0,1,1,1,1,1,0,0,1]
["Planfix",{"$f":"5*1.2","v":6},1,1,0,1,1,1,1,1,1,1,0,1,1,0,1,1,1,1,1,0,1,1,1,1,1,1,1,1,1,1,1,1,1,1,0,1,1,1,1,0]
["YouTrack",3.66,1,1,0,1,1,1,1,1,1,1,0,1,1,0,1,1,1,1,1,0,1,1,1,1,1,1,1,1,1,1,1,0,1,1,1,1,0,0,0,1]
[]
[]
["Альтернатива","Фильтры",null,null,null,null,null,null,null,null,"Критерии",null,null,null,null,null,null,null,null,"Проходит по фильтру?"]
[null,1,2,3,4,5,6,7,8,9,1,2,3,4,5,6,7,8,9]
["LiquidPlanner",1,9000,9000,1,1,1,1,1,1,{"$f":"IF(B4*'Вводные данные'!$C$3>150000,1,IF(B4*'Вводные данные'!$C$3<150000,2,IF(B4*'Вводные данные'!$C$3<125000,3,IF(B4*'Вводные данные'!$C$3<100000,4,IF(B4*'Вводные данные'!$C$3<50000,5,IF(B4*'Вводные данные'!$C$3<25000,6,7))))))/$K$51","v":0.2857142857142857},{"$f":"SUM(C4:F4)/$L$51","v":0.75},{"$f":"SUM(G4:L4)/$M$51","v":0.66666666666666663},{"$f":"SUM(M4:P4)/$N$51","v":0.5},{"$f":"SUM(Q4:W4)/$O$51","v":0.2857142857142857},{"$f":"SUM(X4:AA4)/$P$51","v":0.75},{"$f":"SUM(AB4:AF4)/$Q$51","v":0.8},{"$f":"SUM(AG4:AK4)/$R$51","v":0.2},{"$f":"SUM(AL4:AP4)/$S$51","v":0.6},{"$f":"IF(AND('Вводные данные'!$C$2<=Подложка!B29,'Вводные данные'!$C$3<=Подложка!C29,'Вводные данные'!$C$4<=Подложка!D29,'Вводные данные'!$C$5<=Подложка!E29,'Вводные данные'!$C$6<=Подложка!F29,'Вводные данные'!$C$7<=Подложка!G29,'Вводные данные'!$C$8<=Подложка!H29,'Вводные данные'!$C$9<=Подложка!I29,'Вводные данные'!$C$10<=Подложка!J29),1,0)","v":1}]
["Teamwork",1,9000,600,1,1,1,1,1,1,{"$f":"IF(B5*'Вводные данные'!$C$3>150000,1,IF(B5*'Вводные данные'!$C$3<150000,2,IF(B5*'Вводные данные'!$C$3<125000,3,IF(B5*'Вводные данные'!$C$3<100000,4,IF(B5*'Вводные данные'!$C$3<50000,5,IF(B5*'Вводные данные'!$C$3<25000,6,7))))))/$K$51","v":0.2857142857142857},0.5,{"$f":"SUM(G5:L5)/$M$51","v":1},0.75,0.7142857142857143,1,1,0.8,0.8,{"$f":"IF(AND('Вводные данные'!$C$2<=Подложка!B30,'Вводные данные'!$C$3<=Подложка!C30,'Вводные данные'!$C$4<=Подложка!D30,'Вводные данные'!$C$5<=Подложка!E30,'Вводные данные'!$C$6<=Подложка!F30,'Вводные данные'!$C$7<=Подложка!G30,'Вводные данные'!$C$8<=Подложка!H30,'Вводные данные'!$C$9<=Подложка!I30,'Вводные данные'!$C$10<=Подложка!J30),1,0)","v":0}]
["Zoho Projects",1,9000,9000,1,1,1,1,1,1,{"$f":"IF(B6*'Вводные данные'!$C$3>150000,1,IF(B6*'Вводные данные'!$C$3<150000,2,IF(B6*'Вводные данные'!$C$3<125000,3,IF(B6*'Вводные данные'!$C$3<100000,4,IF(B6*'Вводные данные'!$C$3<50000,5,IF(B6*'Вводные данные'!$C$3<25000,6,7))))))/$K$51","v":0.2857142857142857},1,0.83333333333333337,0.5,0.8571428571428571,1,1,0.6,0.8,{"$f":"IF(AND('Вводные данные'!$C$2<=Подложка!B31,'Вводные данные'!$C$3<=Подложка!C31,'Вводные данные'!$C$4<=Подложка!D31,'Вводные данные'!$C$5<=Подложка!E31,'Вводные данные'!$C$6<=Подложка!F31,'Вводные данные'!$C$7<=Подложка!G31,'Вводные данные'!$C$8<=Подложка!H31,'Вводные данные'!$C$9<=Подложка!I31,'Вводные данные'!$C$10<=Подложка!J31),1,0)","v":1}]
["Celoxis",1,9000,9000,1,1,1,1,1,1,{"$f":"IF(B7*'Вводные данные'!$C$3>150000,1,IF(B7*'Вводные данные'!$C$3<150000,2,IF(B7*'Вводные данные'!$C$3<125000,3,IF(B7*'Вводные данные'!$C$3<100000,4,IF(B7*'Вводные данные'!$C$3<50000,5,IF(B7*'Вводные данные'!$C$3<25000,6,7))))))/$K$51","v":0.2857142857142857},1,1,1,0.5714285714285714,1,1,0.8,0.8,{"$f":"IF(AND('Вводные данные'!$C$2<=Подложка!B32,'Вводные данные'!$C$3<=Подложка!C32,'Вводные данные'!$C$4<=Подложка!D32,'Вводные данные'!$C$5<=Подложка!E32,'Вводные данные'!$C$6<=Подложка!F32,'Вводные данные'!$C$7<=Подложка!G32,'Вводные данные'!$C$8<=Подложка!H32,'Вводные данные'!$C$9<=Подложка!I32,'Вводные данные'!$C$10<=Подложка!J32),1,0)","v":1}]
["GanttPro",0,9000,9000,0,0,1,1,1,1,{"$f":"IF(B8*'Вводные данные'!$C$3>150000,1,IF(B8*'Вводные данные'!$C$3<150000,2,IF(B8*'Вводные данные'!$C$3<125000,3,IF(B8*'Вводные данные'!$C$3<100000,4,IF(B8*'Вводные данные'!$C$3<50000,5,IF(B8*'Вводные данные'!$C$3<25000,6,7))))))/$K$51","v":0.2857142857142857},0.75,0.83333333333333337,0,0.7142857142857143,1,0.6,1,1,{"$f":"IF(AND('Вводные данные'!$C$2<=Подложка!B33,'Вводные данные'!$C$3<=Подложка!C33,'Вводные данные'!$C$4<=Подложка!D33,'Вводные данные'!$C$5<=Подложка!E33,'Вводные данные'!$C$6<=Подложка!F33,'Вводные данные'!$C$7<=Подложка!G33,'Вводные данные'!$C$8<=Подложка!H33,'Вводные данные'!$C$9<=Подложка!I33,'Вводные данные'!$C$10<=Подложка!J33),1,0)","v":1}]
["ProofHub",1,9000,9000,1,1,1,1,0,1,{"$f":"IF(B9*'Вводные данные'!$C$3>150000,1,IF(B9*'Вводные данные'!$C$3<150000,2,IF(B9*'Вводные данные'!$C$3<125000,3,IF(B9*'Вводные данные'!$C$3<100000,4,IF(B9*'Вводные данные'!$C$3<50000,5,IF(B9*'Вводные данные'!$C$3<25000,6,7))))))/$K$51","v":0.2857142857142857},0.75,0.83333333333333337,0.5,0.5714285714285714,1,0.8,1,0.2,{"$f":"IF(AND('Вводные данные'!$C$2<=Подложка!B34,'Вводные данные'!$C$3<=Подложка!C34,'Вводные данные'!$C$4<=Подложка!D34,'Вводные данные'!$C$5<=Подложка!E34,'Вводные данные'!$C$6<=Подложка!F34,'Вводные данные'!$C$7<=Подложка!G34,'Вводные данные'!$C$8<=Подложка!H34,'Вводные данные'!$C$9<=Подложка!I34,'Вводные данные'!$C$10<=Подложка!J34),1,0)","v":1}]
["Redmine",1,9000,9000,1,1,1,1,0,1,{"$f":"IF(B10*'Вводные данные'!$C$3>150000,1,IF(B10*'Вводные данные'!$C$3<150000,2,IF(B10*'Вводные данные'!$C$3<125000,3,IF(B10*'Вводные данные'!$C$3<100000,4,IF(B10*'Вводные данные'!$C$3<50000,5,IF(B10*'Вводные данные'!$C$3<25000,6,7))))))/$K$51","v":0.2857142857142857},0.5,1,1,0.7142857142857143,0.5,0.8,0,0.2,{"$f":"IF(AND('Вводные данные'!$C$2<=Подложка!B35,'Вводные данные'!$C$3<=Подложка!C35,'Вводные данные'!$C$4<=Подложка!D35,'Вводные данные'!$C$5<=Подложка!E35,'Вводные данные'!$C$6<=Подложка!F35,'Вводные данные'!$C$7<=Подложка!G35,'Вводные данные'!$C$8<=Подложка!H35,'Вводные данные'!$C$9<=Подложка!I35,'Вводные данные'!$C$10<=Подложка!J35),1,0)","v":1}]
["Smartsheet",1,9000,9000,0,1,1,1,1,1,{"$f":"IF(B11*'Вводные данные'!$C$3>150000,1,IF(B11*'Вводные данные'!$C$3<150000,2,IF(B11*'Вводные данные'!$C$3<125000,3,IF(B11*'Вводные данные'!$C$3<100000,4,IF(B11*'Вводные данные'!$C$3<50000,5,IF(B11*'Вводные данные'!$C$3<25000,6,7))))))/$K$51","v":0.2857142857142857},1,0.66666666666666663,0.5,0.2857142857142857,1,1,1,0.8,{"$f":"IF(AND('Вводные данные'!$C$2<=Подложка!B36,'Вводные данные'!$C$3<=Подложка!C36,'Вводные данные'!$C$4<=Подложка!D36,'Вводные данные'!$C$5<=Подложка!E36,'Вводные данные'!$C$6<=Подложка!F36,'Вводные данные'!$C$7<=Подложка!G36,'Вводные данные'!$C$8<=Подложка!H36,'Вводные данные'!$C$9<=Подложка!I36,'Вводные данные'!$C$10<=Подложка!J36),1,0)","v":1}]
["TeamGantt",1,9000,9000,0,0,1,1,1,1,{"$f":"IF(B12*'Вводные данные'!$C$3>150000,1,IF(B12*'Вводные данные'!$C$3<150000,2,IF(B12*'Вводные данные'!$C$3<125000,3,IF(B12*'Вводные данные'!$C$3<100000,4,IF(B12*'Вводные данные'!$C$3<50000,5,IF(B12*'Вводные данные'!$C$3<25000,6,7))))))/$K$51","v":0.2857142857142857},0.5,0.83333333333333337,0.5,0.7142857142857143,1,0.8,0.6,0.8,{"$f":"IF(AND('Вводные данные'!$C$2<=Подложка!B37,'Вводные данные'!$C$3<=Подложка!C37,'Вводные данные'!$C$4<=Подложка!D37,'Вводные данные'!$C$5<=Подложка!E37,'Вводные данные'!$C$6<=Подложка!F37,'Вводные данные'!$C$7<=Подложка!G37,'Вводные данные'!$C$8<=Подложка!H37,'Вводные данные'!$C$9<=Подложка!I37,'Вводные данные'!$C$10<=Подложка!J37),1,0)","v":1}]
["Wrike",1,9000,9000,1,1,1,1,1,1,{"$f":"IF(B13*'Вводные данные'!$C$3>150000,1,IF(B13*'Вводные данные'!$C$3<150000,2,IF(B13*'Вводные данные'!$C$3<125000,3,IF(B13*'Вводные данные'!$C$3<100000,4,IF(B13*'Вводные данные'!$C$3<50000,5,IF(B13*'Вводные данные'!$C$3<25000,6,7))))))/$K$51","v":0.2857142857142857},1,0.83333333333333337,0.75,0.42857142857142855,1,1,0.8,0.6,{"$f":"IF(AND('Вводные данные'!$C$2<=Подложка!B38,'Вводные данные'!$C$3<=Подложка!C38,'Вводные данные'!$C$4<=Подложка!D38,'Вводные данные'!$C$5<=Подложка!E38,'Вводные данные'!$C$6<=Подложка!F38,'Вводные данные'!$C$7<=Подложка!G38,'Вводные данные'!$C$8<=Подложка!H38,'Вводные данные'!$C$9<=Подложка!I38,'Вводные данные'!$C$10<=Подложка!J38),1,0)","v":1}]
["MS Project",0,9000,9000,0,1,1,1,1,0,{"$f":"IF(B14*'Вводные данные'!$C$3>150000,1,IF(B14*'Вводные данные'!$C$3<150000,2,IF(B14*'Вводные данные'!$C$3<125000,3,IF(B14*'Вводные данные'!$C$3<100000,4,IF(B14*'Вводные данные'!$C$3<50000,5,IF(B14*'Вводные данные'!$C$3<25000,6,7))))))/$K$51","v":0.2857142857142857},0.75,1,0,0.7142857142857143,1,0.6,0.8,1,{"$f":"IF(AND('Вводные данные'!$C$2<=Подложка!B39,'Вводные данные'!$C$3<=Подложка!C39,'Вводные данные'!$C$4<=Подложка!D39,'Вводные данные'!$C$5<=Подложка!E39,'Вводные данные'!$C$6<=Подложка!F39,'Вводные данные'!$C$7<=Подложка!G39,'Вводные данные'!$C$8<=Подложка!H39,'Вводные данные'!$C$9<=Подложка!I39,'Вводные данные'!$C$10<=Подложка!J39),1,0)","v":1}]
["Trello",1,100,9000,1,1,1,1,0,1,{"$f":"IF(B15*'Вводные данные'!$C$3>150000,1,IF(B15*'Вводные данные'!$C$3<150000,2,IF(B15*'Вводные данные'!$C$3<125000,3,IF(B15*'Вводные данные'!$C$3<100000,4,IF(B15*'Вводные данные'!$C$3<50000,5,IF(B15*'Вводные данные'!$C$3<25000,6,7))))))/$K$51","v":0.2857142857142857},0.75,0.83333333333333337,0.75,0.5714285714285714,0.5,1,0.6,{"$f":"SUM(AL15:AP15)/$S$51","v":0.4},{"$f":"IF(AND('Вводные данные'!$C$2<=Подложка!B40,'Вводные данные'!$C$3<=Подложка!C40,'Вводные данные'!$C$4<=Подложка!D40,'Вводные данные'!$C$5<=Подложка!E40,'Вводные данные'!$C$6<=Подложка!F40,'Вводные данные'!$C$7<=Подложка!G40,'Вводные данные'!$C$8<=Подложка!H40,'Вводные данные'!$C$9<=Подложка!I40,'Вводные данные'!$C$10<=Подложка!J40),1,0)","v":0}]
["Asana",1,9000,9000,1,1,1,1,0,1,{"$f":"IF(B16*'Вводные данные'!$C$3>150000,1,IF(B16*'Вводные данные'!$C$3<150000,2,IF(B16*'Вводные данные'!$C$3<125000,3,IF(B16*'Вводные данные'!$C$3<100000,4,IF(B16*'Вводные данные'!$C$3<50000,5,IF(B16*'Вводные данные'!$C$3<25000,6,7))))))/$K$51","v":0.2857142857142857},1,0.83333333333333337,0.75,0.7142857142857143,1,1,0.8,0.4,{"$f":"IF(AND('Вводные данные'!$C$2<=Подложка!B41,'Вводные данные'!$C$3<=Подложка!C41,'Вводные данные'!$C$4<=Подложка!D41,'Вводные данные'!$C$5<=Подложка!E41,'Вводные данные'!$C$6<=Подложка!F41,'Вводные данные'!$C$7<=Подложка!G41,'Вводные данные'!$C$8<=Подложка!H41,'Вводные данные'!$C$9<=Подложка!I41,'Вводные данные'!$C$10<=Подложка!J41),1,0)","v":1}]
["Jira",1,9000,9000,1,1,1,1,0,1,{"$f":"IF(B17*'Вводные данные'!$C$3>150000,1,IF(B17*'Вводные данные'!$C$3<150000,2,IF(B17*'Вводные данные'!$C$3<125000,3,IF(B17*'Вводные данные'!$C$3<100000,4,IF(B17*'Вводные данные'!$C$3<50000,5,IF(B17*'Вводные данные'!$C$3<25000,6,7))))))/$K$51","v":0.2857142857142857},1,1,0.75,{"$f":"SUM(Q17:W17)/$O$51","v":0.7142857142857143},{"$f":"SUM(X17:AA17)/$P$51","v":0.5},0.8,0.8,0.4,{"$f":"IF(AND('Вводные данные'!$C$2<=Подложка!B42,'Вводные данные'!$C$3<=Подложка!C42,'Вводные данные'!$C$4<=Подложка!D42,'Вводные данные'!$C$5<=Подложка!E42,'Вводные данные'!$C$6<=Подложка!F42,'Вводные данные'!$C$7<=Подложка!G42,'Вводные данные'!$C$8<=Подложка!H42,'Вводные данные'!$C$9<=Подложка!I42,'Вводные данные'!$C$10<=Подложка!J42),1,0)","v":1}]
["Bitrix24",1,9000,9000,0,0,1,1,1,1,{"$f":"IF(B18*'Вводные данные'!$C$3>150000,1,IF(B18*'Вводные данные'!$C$3<150000,2,IF(B18*'Вводные данные'!$C$3<125000,3,IF(B18*'Вводные данные'!$C$3<100000,4,IF(B18*'Вводные данные'!$C$3<50000,5,IF(B18*'Вводные данные'!$C$3<25000,6,7))))))/$K$51","v":0.2857142857142857},0.5,{"$f":"SUM(G18:L18)/$M$51","v":1},{"$f":"SUM(M18:P18)/$N$51","v":0.75},{"$f":"SUM(Q18:W18)/$O$51","v":0.7142857142857143},{"$f":"SUM(X18:AA18)/$P$51","v":1},{"$f":"SUM(AB18:AF18)/$Q$51","v":0.8},{"$f":"SUM(AG18:AK18)/$R$51","v":0.8},{"$f":"SUM(AL18:AP18)/$S$51","v":0.6},{"$f":"IF(AND('Вводные данные'!$C$2<=Подложка!B43,'Вводные данные'!$C$3<=Подложка!C43,'Вводные данные'!$C$4<=Подложка!D43,'Вводные данные'!$C$5<=Подложка!E43,'Вводные данные'!$C$6<=Подложка!F43,'Вводные данные'!$C$7<=Подложка!G43,'Вводные данные'!$C$8<=Подложка!H43,'Вводные данные'!$C$9<=Подложка!I43,'Вводные данные'!$C$10<=Подложка!J43),1,0)","v":1}]
["Basecamp",1,9000,9000,1,1,1,1,0,1,{"$f":"IF(B19*'Вводные данные'!$C$3>150000,1,IF(B19*'Вводные данные'!$C$3<150000,2,IF(B19*'Вводные данные'!$C$3<125000,3,IF(B19*'Вводные данные'!$C$3<100000,4,IF(B19*'Вводные данные'!$C$3<50000,5,IF(B19*'Вводные данные'!$C$3<25000,6,7))))))/$K$51","v":0.2857142857142857},0.5,0.83333333333333337,0.75,0.7142857142857143,0.75,1,0.4,0,{"$f":"IF(AND('Вводные данные'!$C$2<=Подложка!B44,'Вводные данные'!$C$3<=Подложка!C44,'Вводные данные'!$C$4<=Подложка!D44,'Вводные данные'!$C$5<=Подложка!E44,'Вводные данные'!$C$6<=Подложка!F44,'Вводные данные'!$C$7<=Подложка!G44,'Вводные данные'!$C$8<=Подложка!H44,'Вводные данные'!$C$9<=Подложка!I44,'Вводные данные'!$C$10<=Подложка!J44),1,0)","v":1}]
["Hive",1,9000,9000,1,1,1,1,1,0,{"$f":"IF(B20*'Вводные данные'!$C$3>150000,1,IF(B20*'Вводные данные'!$C$3<150000,2,IF(B20*'Вводные данные'!$C$3<125000,3,IF(B20*'Вводные данные'!$C$3<100000,4,IF(B20*'Вводные данные'!$C$3<50000,5,IF(B20*'Вводные данные'!$C$3<25000,6,7))))))/$K$51","v":0.2857142857142857},0.5,0.83333333333333337,0.75,0.7142857142857143,0.75,0.8,0.8,0.6,{"$f":"IF(AND('Вводные данные'!$C$2<=Подложка!B45,'Вводные данные'!$C$3<=Подложка!C45,'Вводные данные'!$C$4<=Подложка!D45,'Вводные данные'!$C$5<=Подложка!E45,'Вводные данные'!$C$6<=Подложка!F45,'Вводные данные'!$C$7<=Подложка!G45,'Вводные данные'!$C$8<=Подложка!H45,'Вводные данные'!$C$9<=Подложка!I45,'Вводные данные'!$C$10<=Подложка!J45),1,0)","v":1}]
["Backlog",1,9000,9000,0,1,1,1,0,1,{"$f":"IF(B21*'Вводные данные'!$C$3>150000,1,IF(B21*'Вводные данные'!$C$3<150000,2,IF(B21*'Вводные данные'!$C$3<125000,3,IF(B21*'Вводные данные'!$C$3<100000,4,IF(B21*'Вводные данные'!$C$3<50000,5,IF(B21*'Вводные данные'!$C$3<25000,6,7))))))/$K$51","v":0.14285714285714285},1,1,0.5,0.8571428571428571,1,1,0.4,0.4,{"$f":"IF(AND('Вводные данные'!$C$2<=Подложка!B46,'Вводные данные'!$C$3<=Подложка!C46,'Вводные данные'!$C$4<=Подложка!D46,'Вводные данные'!$C$5<=Подложка!E46,'Вводные данные'!$C$6<=Подложка!F46,'Вводные данные'!$C$7<=Подложка!G46,'Вводные данные'!$C$8<=Подложка!H46,'Вводные данные'!$C$9<=Подложка!I46,'Вводные данные'!$C$10<=Подложка!J46),1,0)","v":1}]
["ClickUp",1,9000,9000,1,1,1,1,1,1,{"$f":"IF(B22*'Вводные данные'!$C$3>150000,1,IF(B22*'Вводные данные'!$C$3<150000,2,IF(B22*'Вводные данные'!$C$3<125000,3,IF(B22*'Вводные данные'!$C$3<100000,4,IF(B22*'Вводные данные'!$C$3<50000,5,IF(B22*'Вводные данные'!$C$3<25000,6,7))))))/$K$51","v":0.2857142857142857},1,0.83333333333333337,1,0.8571428571428571,1,1,0.8,0.6,{"$f":"IF(AND('Вводные данные'!$C$2<=Подложка!B47,'Вводные данные'!$C$3<=Подложка!C47,'Вводные данные'!$C$4<=Подложка!D47,'Вводные данные'!$C$5<=Подложка!E47,'Вводные данные'!$C$6<=Подложка!F47,'Вводные данные'!$C$7<=Подложка!G47,'Вводные данные'!$C$8<=Подложка!H47,'Вводные данные'!$C$9<=Подложка!I47,'Вводные данные'!$C$10<=Подложка!J47),1,0)","v":1}]
["Planfix",1,1500,9000,1,1,1,1,1,1,{"$f":"IF(B23*'Вводные данные'!$C$3>150000,1,IF(B23*'Вводные данные'!$C$3<150000,2,IF(B23*'Вводные данные'!$C$3<125000,3,IF(B23*'Вводные данные'!$C$3<100000,4,IF(B23*'Вводные данные'!$C$3<50000,5,IF(B23*'Вводные данные'!$C$3<25000,6,7))))))/$K$51","v":0.2857142857142857},0.75,1,0.5,0.8571428571428571,1,1,0.8,0.8,{"$f":"IF(AND('Вводные данные'!$C$2<=Подложка!B48,'Вводные данные'!$C$3<=Подложка!C48,'Вводные данные'!$C$4<=Подложка!D48,'Вводные данные'!$C$5<=Подложка!E48,'Вводные данные'!$C$6<=Подложка!F48,'Вводные данные'!$C$7<=Подложка!G48,'Вводные данные'!$C$8<=Подложка!H48,'Вводные данные'!$C$9<=Подложка!I48,'Вводные данные'!$C$10<=Подложка!J48),1,0)","v":1}]
["YouTrack",1,9000,9000,1,1,1,1,0,1,{"$f":"IF(B24*'Вводные данные'!$C$3>150000,1,IF(B24*'Вводные данные'!$C$3<150000,2,IF(B24*'Вводные данные'!$C$3<125000,3,IF(B24*'Вводные данные'!$C$3<100000,4,IF(B24*'Вводные данные'!$C$3<50000,5,IF(B24*'Вводные данные'!$C$3<25000,6,7))))))/$K$51","v":0.2857142857142857},0.75,1,0.5,0.8571428571428571,1,1,0.8,0.4,{"$f":"IF(AND('Вводные данные'!$C$2<=Подложка!B49,'Вводные данные'!$C$3<=Подложка!C49,'Вводные данные'!$C$4<=Подложка!D49,'Вводные данные'!$C$5<=Подложка!E49,'Вводные данные'!$C$6<=Подложка!F49,'Вводные данные'!$C$7<=Подложка!G49,'Вводные данные'!$C$8<=Подложка!H49,'Вводные данные'!$C$9<=Подложка!I49,'Вводные данные'!$C$10<=Подложка!J49),1,0)","v":1}]
["Название параметра","Наличие мобильного приложения","Минимальное число пользователей","Минимальное число проектов","Интеграция с GitHub ","Интеграция с почтой","Наличие облачного решения","Возможность работы с расписанием","Возможность работы с ресурами проектов","Открытый API","Ежемесячные затраты","Техподдержка","Безопасность","Кросс-платформа","Работа с задачами/проектами","Работа с расписаниями","Ведение коммуникаций и интеграция","Отчетность","Работа с ресурсами"]
["Максимальный балл","-",null,null,null,null,null,null,null,null,7,4,6,4,7,4,5,5,5]

{"sheet":"Выдача","index":2,"n_rows":23,"n_cols":3,"rows_kept":23,"cut":false,"hidden":false,"merged":[]}
[]
["Альтернатива","Проходит по фильтрам?","Результат"]
["ClickUp",{"$f":"IF(Подложка!T47=0,\"Исключено\",\"\")","v":""},{"$f":"SUMPRODUCT(Подложка!K47:S47,'Вводные данные'!$C$13:$K$13)","v":12.69047619047619}]
["Planfix",{"$f":"IF(Подложка!T48=0,\"Исключено\",\"\")","v":""},{"$f":"SUMPRODUCT(Подложка!K48:S48,'Вводные данные'!$C$13:$K$13)","v":12.507142857142858}]
["Celoxis",{"$f":"IF(Подложка!T32=0,\"Исключено\",\"\")","v":""},{"$f":"SUMPRODUCT(Подложка!K32:S32,'Вводные данные'!$C$13:$K$13)","v":12.4}]
["Zoho Projects",{"$f":"IF(Подложка!T31=0,\"Исключено\",\"\")","v":""},{"$f":"SUMPRODUCT(Подложка!K31:S31,'Вводные данные'!$C$13:$K$13)","v":12.390476190476189}]
["Teamwork",{"$f":"IF(Подложка!T30=0,\"Исключено\",\"\")","v":"Исключено"},{"$f":"SUMPRODUCT(Подложка!K30:S30,'Вводные данные'!$C$13:$K$13)","v":12.078571428571429}]
["YouTrack",{"$f":"IF(Подложка!T49=0,\"Исключено\",\"\")","v":""},{"$f":"SUMPRODUCT(Подложка!K49:S49,'Вводные данные'!$C$13:$K$13)","v":11.707142857142859}]
["Asana",{"$f":"IF(Подложка!T41=0,\"Исключено\",\"\")","v":""},{"$f":"SUMPRODUCT(Подложка!K41:S41,'Вводные данные'!$C$13:$K$13)","v":11.611904761904764}]
["Backlog",{"$f":"IF(Подложка!T46=0,\"Исключено\",\"\")","v":""},{"$f":"SUMPRODUCT(Подложка!K46:S46,'Вводные данные'!$C$13:$K$13)","v":11.414285714285715}]
["Wrike",{"$f":"IF(Подложка!T38=0,\"Исключено\",\"\")","v":""},{"$f":"SUMPRODUCT(Подложка!K38:S38,'Вводные данные'!$C$13:$K$13)","v":11.154761904761905}]
["Bitrix24",{"$f":"IF(Подложка!T43=0,\"Исключено\",\"\")","v":""},{"$f":"SUMPRODUCT(Подложка!K43:S43,'Вводные данные'!$C$13:$K$13)","v":11.078571428571429}]
["Smartsheet",{"$f":"IF(Подложка!T36=0,\"Исключено\",\"\")","v":""},{"$f":"SUMPRODUCT(Подложка!K36:S36,'Вводные данные'!$C$13:$K$13)","v":10.90952380952381}]
["TeamGantt",{"$f":"IF(Подложка!T37=0,\"Исключено\",\"\")","v":""},{"$f":"SUMPRODUCT(Подложка!K37:S37,'Вводные данные'!$C$13:$K$13)","v":10.861904761904761}]
["GanttPro",{"$f":"IF(Подложка!T33=0,\"Исключено\",\"\")","v":""},{"$f":"SUMPRODUCT(Подложка!K33:S33,'Вводные данные'!$C$13:$K$13)","v":10.811904761904762}]
["MS Project",{"$f":"IF(Подложка!T39=0,\"Исключено\",\"\")","v":""},{"$f":"SUMPRODUCT(Подложка!K39:S39,'Вводные данные'!$C$13:$K$13)","v":10.778571428571428}]
["Hive",{"$f":"IF(Подложка!T45=0,\"Исключено\",\"\")","v":""},{"$f":"SUMPRODUCT(Подложка!K45:S45,'Вводные данные'!$C$13:$K$13)","v":10.411904761904761}]
["Jira",{"$f":"IF(Подложка!T42=0,\"Исключено\",\"\")","v":""},{"$f":"SUMPRODUCT(Подложка!K42:S42,'Вводные данные'!$C$13:$K$13)","v":10.178571428571431}]
["ProofHub",{"$f":"IF(Подложка!T34=0,\"Исключено\",\"\")","v":""},{"$f":"SUMPRODUCT(Подложка!K34:S34,'Вводные данные'!$C$13:$K$13)","v":9.8833333333333346}]
["Trello",{"$f":"IF(Подложка!T40=0,\"Исключено\",\"\")","v":"Исключено"},{"$f":"SUMPRODUCT(Подложка!K40:S40,'Вводные данные'!$C$13:$K$13)","v":9.7333333333333325}]
["Basecamp",{"$f":"IF(Подложка!T44=0,\"Исключено\",\"\")","v":""},{"$f":"SUMPRODUCT(Подложка!K44:S44,'Вводные данные'!$C$13:$K$13)","v":9.4119047619047631}]
["Redmine",{"$f":"IF(Подложка!T35=0,\"Исключено\",\"\")","v":""},{"$f":"SUMPRODUCT(Подложка!K35:S35,'Вводные данные'!$C$13:$K$13)","v":8.7285714285714295}]
["LiquidPlanner",{"$f":"IF(Подложка!T29=0,\"Исключено\",\"\")","v":""},{"$f":"SUMPRODUCT(Подложка!K29:S29,'Вводные данные'!$C$13:$K$13)","v":8.3595238095238091}]